BEGIN:VCALENDAR
PRODID: -//Microsoft Corporation//Outlook 12.0 MIMEDIR//EN
VERSION:2.0
METHOD:PUBLISH
X-MS-OLK-FORCEINSPECTOROPEN:TRUE
BEGIN:VEVENT
CLASS:PUBLIC
CREATED:2026-04-25T07:45:03
DESCRIPTION:The purpose of this package is to provide coaching and consultation in support of planning and performance management Domains 1-5 for program teams.
DTEND:20260529T160000
DTSTAMP:20260529T083000
DTSTART:20260529T083000
LAST-MODIFIED:2026-04-25T07:45:03
LOCATION:ESC Region 12
PRIORITY:5
SEQUENCE:0
SUMMARY;LANGUAGE=en-us:ESC 12 PPM Support w/ Program Teams
TRANSP:OPAQUE
UID:CentralRegistration@esc11.net
SUMMARY:ESC 12 PPM Support w/ Program Teams
X-MICROSOFT-CDO-BUSYSTATUS:BUSY
X-MICROSOFT-CDO-IMPORTANCE:1
BEGIN:VALARM
TRIGGER:-PT15M
ACTION:DISPLAY
DESCRIPTION:Reminder
END:VALARM
END:VEVENT
END:VCALENDAR
