BEGIN:VCALENDAR
PRODID: -//Microsoft Corporation//Outlook 12.0 MIMEDIR//EN
VERSION:2.0
METHOD:PUBLISH
X-MS-OLK-FORCEINSPECTOROPEN:TRUE
BEGIN:VEVENT
CLASS:PUBLIC
CREATED:2026-04-25T10:27:49
DESCRIPTION:This virtual session will provide district and charter program leaders with a clear understanding of upcoming changes to the ELPS and the transition of TELPAS. Participants will examine how these shifts impact curriculum, instruction, and assessment practices, and identify key actions needed to ensure alignment and compliance. Through collaborative discussion and networking, leaders will leave with practical next steps to support effective implementation and improved outcomes for emergent bilingual students.
DTEND:20260611T113000
DTSTAMP:20260611T093000
DTSTART:20260611T093000
LAST-MODIFIED:2026-04-25T10:27:49
LOCATION:Zoom
PRIORITY:5
SEQUENCE:0
SUMMARY;LANGUAGE=en-us:Navigating ELPS Changes: TELPAS Transitions, Instructional Impact, and Leadership Actions
TRANSP:OPAQUE
UID:CentralRegistration@esc11.net
SUMMARY:Navigating ELPS Changes: TELPAS Transitions, Instructional Impact, and Leadership Actions
X-MICROSOFT-CDO-BUSYSTATUS:BUSY
X-MICROSOFT-CDO-IMPORTANCE:1
BEGIN:VALARM
TRIGGER:-PT15M
ACTION:DISPLAY
DESCRIPTION:Reminder
END:VALARM
END:VEVENT
END:VCALENDAR
