BEGIN:VCALENDAR
PRODID: -//Microsoft Corporation//Outlook 12.0 MIMEDIR//EN
VERSION:2.0
METHOD:PUBLISH
X-MS-OLK-FORCEINSPECTOROPEN:TRUE
BEGIN:VEVENT
CLASS:PUBLIC
CREATED:2026-04-23T19:43:36
DESCRIPTION:This session is designed to support leaders and educators who are not part of the LIFT grant in successfully implementing Bluebonnet Learning while avoiding common pitfalls of new curriculum rollouts. Participants will explore a comprehensive approach that balances strong planning, clear communication, and ongoing support with the realities of teacher capacity and student needs. Special attention will be given to protecting teacher time and clarifying what implementation with fidelity truly means.
This session focuses on practical, manageable keys that help teams move from adoption to true implementation. Participants will leave with clear, actionable next steps to support teachers, use Bluebonnet resources effectively, and build momentum. The session will also highlight the role of observation and feedback practices in supporting implementation, helping leaders identify trends that inform future professional development and coaching conversations. By the end of the session, leaders will leave with practical tools and a realistic understanding of year one implementation that supports strong instruction, student engagement, and a cohesive learning community.

DTEND:20260611T160000
DTSTAMP:20260611T083000
DTSTART:20260611T083000
LAST-MODIFIED:2026-04-23T19:43:36
LOCATION:ESC Region 11
PRIORITY:5
SEQUENCE:0
SUMMARY;LANGUAGE=en-us:Bluebonnet Learning: Keys to Successful Implementation
TRANSP:OPAQUE
UID:CentralRegistration@esc11.net
SUMMARY:Bluebonnet Learning: Keys to Successful Implementation
X-MICROSOFT-CDO-BUSYSTATUS:BUSY
X-MICROSOFT-CDO-IMPORTANCE:1
BEGIN:VALARM
TRIGGER:-PT15M
ACTION:DISPLAY
DESCRIPTION:Reminder
END:VALARM
END:VEVENT
END:VCALENDAR
