BEGIN:VCALENDAR
PRODID: -//Microsoft Corporation//Outlook 12.0 MIMEDIR//EN
VERSION:2.0
METHOD:PUBLISH
X-MS-OLK-FORCEINSPECTOROPEN:TRUE
BEGIN:VEVENT
CLASS:PUBLIC
CREATED:2026-04-21T03:34:44
DESCRIPTION:Legal issues related to the First Amendment, privacy and confidentiality, filtering and CIPA, social media, and the internet are embedded in the work of libraries and what librarians do each day. Learn the basics of these legal issues at this one-day workshop. Presenters will share information on recent case law and legal precedence, and on how to review your policies to ensure you and your library are protecting the rights of the community you serve. There will be interactive activities and opportunities to share your experiences, ask questions, and connect with librarians.
DTEND:20260629T120000
DTSTAMP:20260629T090000
DTSTART:20260629T090000
LAST-MODIFIED:2026-04-21T03:34:44
LOCATION:ESC Region 11 Annex - 1501 S. Cherry Lane, White Settlement, TX 76108
PRIORITY:5
SEQUENCE:0
SUMMARY;LANGUAGE=en-us:Law4Librarians
TRANSP:OPAQUE
UID:CentralRegistration@esc11.net
SUMMARY:Law4Librarians
X-MICROSOFT-CDO-BUSYSTATUS:BUSY
X-MICROSOFT-CDO-IMPORTANCE:1
BEGIN:VALARM
TRIGGER:-PT15M
ACTION:DISPLAY
DESCRIPTION:Reminder
END:VALARM
END:VEVENT
END:VCALENDAR
