BEGIN:VCALENDAR
PRODID: -//Microsoft Corporation//Outlook 12.0 MIMEDIR//EN
VERSION:2.0
METHOD:PUBLISH
X-MS-OLK-FORCEINSPECTOROPEN:TRUE
BEGIN:VEVENT
CLASS:PUBLIC
CREATED:2026-04-25T07:06:27
DESCRIPTION:Strong comprehension doesn’t happen by chance. This session explores the key skills that contribute to reading success and provides practical ideas for identifying and addressing gaps in your 3-5 classroom. Walk away with tools to strengthen your students’ ability to understand and engage with text.
DTEND:20260707T153000
DTSTAMP:20260707T083000
DTSTART:20260707T083000
LAST-MODIFIED:2026-04-25T07:06:27
LOCATION:ESC Region 11
PRIORITY:5
SEQUENCE:0
SUMMARY;LANGUAGE=en-us:Unlocking Comprehension: Practical Strategies for Grades 3-5
TRANSP:OPAQUE
UID:CentralRegistration@esc11.net
SUMMARY:Unlocking Comprehension: Practical Strategies for Grades 3-5
X-MICROSOFT-CDO-BUSYSTATUS:BUSY
X-MICROSOFT-CDO-IMPORTANCE:1
BEGIN:VALARM
TRIGGER:-PT15M
ACTION:DISPLAY
DESCRIPTION:Reminder
END:VALARM
END:VEVENT
END:VCALENDAR
