BEGIN:VCALENDAR
PRODID: -//Microsoft Corporation//Outlook 12.0 MIMEDIR//EN
VERSION:2.0
METHOD:PUBLISH
X-MS-OLK-FORCEINSPECTOROPEN:TRUE
BEGIN:VEVENT
CLASS:PUBLIC
CREATED:2026-04-24T20:31:52
DESCRIPTION:Join ESC Region 11 for an in-depth exploration of elementary science curriculum and instruction. On Day Four of the Science Academy, teachers will explore topics within the organisms and environment strand, applied to the science and engineering practices (SEPs) and recurring themes and concepts (RTCs). Topics covered in this session will include scientific argumentation, biotic and abiotic systems, matter and energy cycles, environmental change, Texas fossils, structure and function, inheritance, and life cycles.
DTEND:20260723T153000
DTSTAMP:20260723T083000
DTSTART:20260723T083000
LAST-MODIFIED:2026-04-24T20:31:52
LOCATION:ESC Region 11
PRIORITY:5
SEQUENCE:0
SUMMARY;LANGUAGE=en-us:Science Academy for Grades 3-5: Day Four: Organisms and Environments
TRANSP:OPAQUE
UID:CentralRegistration@esc11.net
SUMMARY:Science Academy for Grades 3-5: Day Four: Organisms and Environments
X-MICROSOFT-CDO-BUSYSTATUS:BUSY
X-MICROSOFT-CDO-IMPORTANCE:1
BEGIN:VALARM
TRIGGER:-PT15M
ACTION:DISPLAY
DESCRIPTION:Reminder
END:VALARM
END:VEVENT
END:VCALENDAR
