BEGIN:VCALENDAR
PRODID: -//Microsoft Corporation//Outlook 12.0 MIMEDIR//EN
VERSION:2.0
METHOD:PUBLISH
X-MS-OLK-FORCEINSPECTOROPEN:TRUE
BEGIN:VEVENT
CLASS:PUBLIC
CREATED:2026-04-20T23:01:54
DESCRIPTION:Master your curriculum with AI as your collaborative partner. In this hands-on session, you will use AI workflows to simplify the internalization of HQIM and OER materials. We will convert complex teacher guides into practical insights to ensure smoother lesson delivery. You'll leave with a repeatable process that reduces your prep time while enhancing your classroom experience.
DTEND:20260610T153000
DTSTAMP:20260610T083000
DTSTART:20260610T083000
LAST-MODIFIED:2026-04-20T23:01:54
LOCATION:ESC Region 11
PRIORITY:5
SEQUENCE:0
SUMMARY;LANGUAGE=en-us:The AI Co-Planner: Internalization & Instructional Delivery with HQIM/OER
TRANSP:OPAQUE
UID:CentralRegistration@esc11.net
SUMMARY:The AI Co-Planner: Internalization & Instructional Delivery with HQIM/OER
X-MICROSOFT-CDO-BUSYSTATUS:BUSY
X-MICROSOFT-CDO-IMPORTANCE:1
BEGIN:VALARM
TRIGGER:-PT15M
ACTION:DISPLAY
DESCRIPTION:Reminder
END:VALARM
END:VEVENT
END:VCALENDAR
