BEGIN:VCALENDAR
PRODID: -//Microsoft Corporation//Outlook 12.0 MIMEDIR//EN
VERSION:2.0
METHOD:PUBLISH
X-MS-OLK-FORCEINSPECTOROPEN:TRUE
BEGIN:VEVENT
CLASS:PUBLIC
CREATED:2026-04-20T12:30:36
DESCRIPTION:This session provides school system evaluation staff with an overview of the behavioral threat assessment (BTA) process, with a focus on supporting students with disabilities. Key components of threat assessment will be reviewed, and how they align with special education requirements. Attendees will gain practical insight into supporting students with disabilities during the behavioral threat assessment process.

This session is intended for personnel involved in special education evaluations and ARD meetings.
DTEND:20260811T120000
DTSTAMP:20260811T110000
DTSTART:20260811T110000
LAST-MODIFIED:2026-04-20T12:30:36
LOCATION:Virtual
PRIORITY:5
SEQUENCE:0
SUMMARY;LANGUAGE=en-us:Behavioral Threat Assessment Process Updates: Supporting Students with Disabilities
TRANSP:OPAQUE
UID:CentralRegistration@esc11.net
SUMMARY:Behavioral Threat Assessment Process Updates: Supporting Students with Disabilities
X-MICROSOFT-CDO-BUSYSTATUS:BUSY
X-MICROSOFT-CDO-IMPORTANCE:1
BEGIN:VALARM
TRIGGER:-PT15M
ACTION:DISPLAY
DESCRIPTION:Reminder
END:VALARM
END:VEVENT
END:VCALENDAR
