BEGIN:VCALENDAR
PRODID: -//Microsoft Corporation//Outlook 12.0 MIMEDIR//EN
VERSION:2.0
METHOD:PUBLISH
X-MS-OLK-FORCEINSPECTOROPEN:TRUE
BEGIN:VEVENT
CLASS:PUBLIC
CREATED:2026-04-21T05:07:42
DESCRIPTION:In this training, we will engage in an in-depth exploration of the science behind student motivation. This session breaks down the core principles of behavior shaping and compares various reinforcement systems used in different learning environments. Participants will collaborate to design individualized reinforcement strategies that can be seamlessly integrated into their daily classroom routines.
DTEND:20260611T153000
DTSTAMP:20260611T123000
DTSTART:20260611T123000
LAST-MODIFIED:2026-04-21T05:07:42
LOCATION:ESC Region 11
PRIORITY:5
SEQUENCE:0
SUMMARY;LANGUAGE=en-us:Increasing Motivation: Reinforcement Strategies for the Classroom Setting
TRANSP:OPAQUE
UID:CentralRegistration@esc11.net
SUMMARY:Increasing Motivation: Reinforcement Strategies for the Classroom Setting
X-MICROSOFT-CDO-BUSYSTATUS:BUSY
X-MICROSOFT-CDO-IMPORTANCE:1
BEGIN:VALARM
TRIGGER:-PT15M
ACTION:DISPLAY
DESCRIPTION:Reminder
END:VALARM
END:VEVENT
END:VCALENDAR
