BEGIN:VCALENDAR
PRODID: -//Microsoft Corporation//Outlook 12.0 MIMEDIR//EN
VERSION:2.0
METHOD:PUBLISH
X-MS-OLK-FORCEINSPECTOROPEN:TRUE
BEGIN:VEVENT
CLASS:PUBLIC
CREATED:2026-04-21T00:25:55
DESCRIPTION:In this training, we will discuss classroom management and de-escalation strategies for interfering behaviors. Classroom teachers and interventionists will explore proven techniques for de-escalating challenging behaviors in the classroom. This session will equip educators with practical tools and techniques to reduce conflicts, build positive relationships, and set limits.


DTEND:20260611T113000
DTSTAMP:20260611T083000
DTSTART:20260611T083000
LAST-MODIFIED:2026-04-21T00:25:55
LOCATION:ESC Region 11
PRIORITY:5
SEQUENCE:0
SUMMARY;LANGUAGE=en-us:Effective Classroom De-escalation Strategies
TRANSP:OPAQUE
UID:CentralRegistration@esc11.net
SUMMARY:Effective Classroom De-escalation Strategies
X-MICROSOFT-CDO-BUSYSTATUS:BUSY
X-MICROSOFT-CDO-IMPORTANCE:1
BEGIN:VALARM
TRIGGER:-PT15M
ACTION:DISPLAY
DESCRIPTION:Reminder
END:VALARM
END:VEVENT
END:VCALENDAR
