BEGIN:VCALENDAR
PRODID: -//Microsoft Corporation//Outlook 12.0 MIMEDIR//EN
VERSION:2.0
METHOD:PUBLISH
X-MS-OLK-FORCEINSPECTOROPEN:TRUE
BEGIN:VEVENT
CLASS:PUBLIC
CREATED:2026-04-25T19:47:12
DESCRIPTION:Work samples are one of the most powerful and overlooked sources of learning data in special education. This session shows how AI can support, not replace, professional judgment when analyzing student writing, math, and classroom tasks. Participants will learn practical, research-informed procedures for identifying error patterns, task demands, skill gaps, and instructional mismatches using authentic student work. We will also address ethical use of AI, including privacy, bias, transparency, and maintaining evaluator responsibility in decision-making. Through guided examples, you will see how thoughtful work-sample analysis can go beyond surface-level mistakes to yield clearer, more defensible impact statements that connect student performance to standards, classroom expectations, and eligibility decisions. You will leave with practical tools you can use immediately in your evaluations.
DTEND:20260616T120000
DTSTAMP:20260616T090000
DTSTART:20260616T090000
LAST-MODIFIED:2026-04-25T19:47:12
LOCATION:Virtual
PRIORITY:5
SEQUENCE:0
SUMMARY;LANGUAGE=en-us:Dr. Schultz Presents: AI-Assisted Work Samples Analysis--Ethics and Practice
TRANSP:OPAQUE
UID:CentralRegistration@esc11.net
SUMMARY:Dr. Schultz Presents: AI-Assisted Work Samples Analysis--Ethics and Practice
X-MICROSOFT-CDO-BUSYSTATUS:BUSY
X-MICROSOFT-CDO-IMPORTANCE:1
BEGIN:VALARM
TRIGGER:-PT15M
ACTION:DISPLAY
DESCRIPTION:Reminder
END:VALARM
END:VEVENT
END:VCALENDAR
