BEGIN:VCALENDAR
PRODID: -//Microsoft Corporation//Outlook 12.0 MIMEDIR//EN
VERSION:2.0
METHOD:PUBLISH
X-MS-OLK-FORCEINSPECTOROPEN:TRUE
BEGIN:VEVENT
CLASS:PUBLIC
CREATED:2026-04-21T07:49:45
DESCRIPTION:A semester-long collaborative learning experience designed to provide teachers with practical, research-based strategies for managing classroom behavior effectively. This cohort equips teachers with practical strategies and a structured framework to address and improve student behavior in the classroom. Through interactive discussions, case studies, and hands-on applications, participants will discover tools to foster positive student behavior, increase engagement, and create a supportive learning environment.
DTEND:20260820T153000
DTSTAMP:20260820T110000
DTSTART:20260820T110000
LAST-MODIFIED:2026-04-21T07:49:45
LOCATION:ESC 11
PRIORITY:5
SEQUENCE:0
SUMMARY;LANGUAGE=en-us:Behavior Blueprint Cohort: Enhancing Student Success - Fall 2026 - Day 1
TRANSP:OPAQUE
UID:CentralRegistration@esc11.net
SUMMARY:Behavior Blueprint Cohort: Enhancing Student Success - Fall 2026 - Day 1
X-MICROSOFT-CDO-BUSYSTATUS:BUSY
X-MICROSOFT-CDO-IMPORTANCE:1
BEGIN:VALARM
TRIGGER:-PT15M
ACTION:DISPLAY
DESCRIPTION:Reminder
END:VALARM
END:VEVENT
END:VCALENDAR
