BEGIN:VCALENDAR
PRODID: -//Microsoft Corporation//Outlook 12.0 MIMEDIR//EN
VERSION:2.0
METHOD:PUBLISH
X-MS-OLK-FORCEINSPECTOROPEN:TRUE
BEGIN:VEVENT
CLASS:PUBLIC
CREATED:2026-04-23T02:14:15
DESCRIPTION:Calling all first-year diagnosticians — or those who still feel like one! This lively session unpacks the real-world side of evaluation work: time management, communication hacks, compliance traps, and learning to trust your professional judgment. You'll leave with strategies, checklists, and mindset shifts that help you move from surviving to thriving — all with a sense of humor and maybe a few Bosco-approved shortcuts.
DTEND:20260624T120000
DTSTAMP:20260624T090000
DTSTART:20260624T090000
LAST-MODIFIED:2026-04-23T02:14:15
LOCATION:Virtual
PRIORITY:5
SEQUENCE:0
SUMMARY;LANGUAGE=en-us:Dr. Tammy Stephens Presents: Help! I'm a New Diagnostician! (Survival Skills for Year One and Beyond)
TRANSP:OPAQUE
UID:CentralRegistration@esc11.net
SUMMARY:Dr. Tammy Stephens Presents: Help! I'm a New Diagnostician! (Survival Skills for Year One and Beyond)
X-MICROSOFT-CDO-BUSYSTATUS:BUSY
X-MICROSOFT-CDO-IMPORTANCE:1
BEGIN:VALARM
TRIGGER:-PT15M
ACTION:DISPLAY
DESCRIPTION:Reminder
END:VALARM
END:VEVENT
END:VCALENDAR
