BEGIN:VCALENDAR
PRODID: -//Microsoft Corporation//Outlook 12.0 MIMEDIR//EN
VERSION:2.0
METHOD:PUBLISH
X-MS-OLK-FORCEINSPECTOROPEN:TRUE
BEGIN:VEVENT
CLASS:PUBLIC
CREATED:2026-04-25T08:37:38
DESCRIPTION:The 16th Annual Technology Vendor Fair is a one-day extravaganza that builds capacity in Region 11 by providing learning opportunities about the latest assistive technologies for the classroom. Vendors from all over will be presenting and demonstrating their top innovative products and software. All educators are invited to attend! Registration is free and includes lunch, vendor door prizes, hands-on experiences, and breakout sessions with vendors.
DTEND:20261106T140000
DTSTAMP:20261106T080000
DTSTART:20261106T080000
LAST-MODIFIED:2026-04-25T08:37:38
LOCATION:ESC Region 11
PRIORITY:5
SEQUENCE:0
SUMMARY;LANGUAGE=en-us:2026 17th Annual Technology Vendor Fair
TRANSP:OPAQUE
UID:CentralRegistration@esc11.net
SUMMARY:2026 17th Annual Technology Vendor Fair
X-MICROSOFT-CDO-BUSYSTATUS:BUSY
X-MICROSOFT-CDO-IMPORTANCE:1
BEGIN:VALARM
TRIGGER:-PT15M
ACTION:DISPLAY
DESCRIPTION:Reminder
END:VALARM
END:VEVENT
END:VCALENDAR
