BEGIN:VCALENDAR
PRODID: -//Microsoft Corporation//Outlook 12.0 MIMEDIR//EN
VERSION:2.0
METHOD:PUBLISH
X-MS-OLK-FORCEINSPECTOROPEN:TRUE
BEGIN:VEVENT
CLASS:PUBLIC
CREATED:2026-04-23T14:31:05
DESCRIPTION:Join us for an engaging professional development session aimed at providing educators with essential skills to use Canva for Education in their classrooms. This hands-on workshop will provide foundational knowledge and practical tips for creating engaging visual content and educational materials for students. Participants will learn how to navigate Canva's user-friendly interface, customize templates, and explore the endless creative options offered by Canva's AI features. Don't miss this opportunity to enhance your teaching toolkit and empower your students with impactful learning resources.
DTEND:20260608T153000
DTSTAMP:20260608T083000
DTSTART:20260608T083000
LAST-MODIFIED:2026-04-23T14:31:05
LOCATION:ESC Region 11
PRIORITY:5
SEQUENCE:0
SUMMARY;LANGUAGE=en-us:Inspiring Creativity: Canva for All Educators
TRANSP:OPAQUE
UID:CentralRegistration@esc11.net
SUMMARY:Inspiring Creativity: Canva for All Educators
X-MICROSOFT-CDO-BUSYSTATUS:BUSY
X-MICROSOFT-CDO-IMPORTANCE:1
BEGIN:VALARM
TRIGGER:-PT15M
ACTION:DISPLAY
DESCRIPTION:Reminder
END:VALARM
END:VEVENT
END:VCALENDAR
