BEGIN:VCALENDAR
PRODID: -//Microsoft Corporation//Outlook 12.0 MIMEDIR//EN
VERSION:2.0
METHOD:PUBLISH
X-MS-OLK-FORCEINSPECTOROPEN:TRUE
BEGIN:VEVENT
CLASS:PUBLIC
CREATED:2026-04-21T05:04:43
DESCRIPTION:In this session, we'll explore the new TSDS options for the Summer PEIMS Submission, including handling Level 1 errors and utilizing the Extract & Send feature for on demand API transfers. Stay ahead with these key updates to streamline your submission process using ASCENDER.
DTEND:20260428T120000
DTSTAMP:20260428T090000
DTSTART:20260428T090000
LAST-MODIFIED:2026-04-21T05:04:43
LOCATION:ESC Region 11
PRIORITY:5
SEQUENCE:0
SUMMARY;LANGUAGE=en-us:ASCENDER District Administration for Summer PEIMS Webinar
TRANSP:OPAQUE
UID:CentralRegistration@esc11.net
SUMMARY:ASCENDER District Administration for Summer PEIMS Webinar
X-MICROSOFT-CDO-BUSYSTATUS:BUSY
X-MICROSOFT-CDO-IMPORTANCE:1
BEGIN:VALARM
TRIGGER:-PT15M
ACTION:DISPLAY
DESCRIPTION:Reminder
END:VALARM
END:VEVENT
END:VCALENDAR
