BEGIN:VCALENDAR
PRODID: -//Microsoft Corporation//Outlook 12.0 MIMEDIR//EN
VERSION:2.0
METHOD:PUBLISH
X-MS-OLK-FORCEINSPECTOROPEN:TRUE
BEGIN:VEVENT
CLASS:PUBLIC
CREATED:2026-04-24T08:20:16
DESCRIPTION:This session provides a clear, practical overview of the State Performance Plan Indicator (SPPI) 13 Summer SPEDS submission process. Participants will review required components, timelines, common errors, interdepartmental collaboration strategies, and documentation tips to ensure accurate and timely reporting of secondary transition compliance. Designed for both new and experienced PEIMS and Special Education compliance staff, this session simplifies compliance while strengthening alignment between IEP transition components and state reporting expectations.
DTEND:20260429T113000
DTSTAMP:20260429T090000
DTSTART:20260429T090000
LAST-MODIFIED:2026-04-24T08:20:16
LOCATION:Virtual
PRIORITY:5
SEQUENCE:0
SUMMARY;LANGUAGE=en-us:SPPI-13: Summer SPEDS Submission 101
TRANSP:OPAQUE
UID:CentralRegistration@esc11.net
SUMMARY:SPPI-13: Summer SPEDS Submission 101
X-MICROSOFT-CDO-BUSYSTATUS:BUSY
X-MICROSOFT-CDO-IMPORTANCE:1
BEGIN:VALARM
TRIGGER:-PT15M
ACTION:DISPLAY
DESCRIPTION:Reminder
END:VALARM
END:VEVENT
END:VCALENDAR
