BEGIN:VCALENDAR
PRODID: -//Microsoft Corporation//Outlook 12.0 MIMEDIR//EN
VERSION:2.0
METHOD:PUBLISH
X-MS-OLK-FORCEINSPECTOROPEN:TRUE
BEGIN:VEVENT
CLASS:PUBLIC
CREATED:2026-04-24T10:10:55
DESCRIPTION:This self-paced series is designed for educators seeking to deepen their understanding of gifted education practices and enhance their skills in supporting advanced learners. In this session, we will explore Kari Lockhart's insightful book, What to Expect When You're Expected to Teach Gifted Students: A Guide to the Celebrations, Surprises, Quirks, and Questions in Your First Year Teaching Gifted Learners.

This comprehensive guide offers practical strategies and real-world insights for new teachers navigating the unique challenges of teaching gifted students. Although this book is geared towards teachers new to gifted education, it can also serve as a great refresher if it has been some time since you earned your initial 30 hours of GT training. 

Please note that participants are responsible for securing their own copy of the book prior to the start of the course.

DTEND:20260810T160000
DTSTAMP:20260601T080000
DTSTART:20260601T080000
LAST-MODIFIED:2026-04-24T10:10:55
LOCATION:Online
PRIORITY:5
SEQUENCE:0
SUMMARY;LANGUAGE=en-us:Gifted Minds, Gifted Reads: A Professional Book Study Series- What To Expect When You're Expected to Teach Gifted Students
TRANSP:OPAQUE
UID:CentralRegistration@esc11.net
SUMMARY:Gifted Minds, Gifted Reads: A Professional Book Study Series- What To Expect When You're Expected to Teach Gifted Students
X-MICROSOFT-CDO-BUSYSTATUS:BUSY
X-MICROSOFT-CDO-IMPORTANCE:1
BEGIN:VALARM
TRIGGER:-PT15M
ACTION:DISPLAY
DESCRIPTION:Reminder
END:VALARM
END:VEVENT
END:VCALENDAR
