BEGIN:VCALENDAR
PRODID: -//Microsoft Corporation//Outlook 12.0 MIMEDIR//EN
VERSION:2.0
METHOD:PUBLISH
X-MS-OLK-FORCEINSPECTOROPEN:TRUE
BEGIN:VEVENT
CLASS:PUBLIC
CREATED:2026-04-25T14:56:02
DESCRIPTION:This session is designed for new high school counselors, anyone who needs a refresher, or elementary/middle school counselors interested in learning about high school graduation requirements. The session will provide a comprehensive overview of graduation requirements, EOC requirements, and Chapter 74; graduation plan options; course advising; the award of transfer credit; senior-year requirements such as FAFSA, ApplyTexas, and college-readiness measures; transcript audits and performance acknowledgments; and LOTE substitutions/waivers. The session will include resources, guidance tools, and professional support to strengthen compliance and student advising.
DTEND:20260618T150000
DTSTAMP:20260618T120000
DTSTART:20260618T120000
LAST-MODIFIED:2026-04-25T14:56:02
LOCATION:ESC Region 11
PRIORITY:5
SEQUENCE:0
SUMMARY;LANGUAGE=en-us:Graduation Requirements and Transcripts 101
TRANSP:OPAQUE
UID:CentralRegistration@esc11.net
SUMMARY:Graduation Requirements and Transcripts 101
X-MICROSOFT-CDO-BUSYSTATUS:BUSY
X-MICROSOFT-CDO-IMPORTANCE:1
BEGIN:VALARM
TRIGGER:-PT15M
ACTION:DISPLAY
DESCRIPTION:Reminder
END:VALARM
END:VEVENT
END:VCALENDAR
