BEGIN:VCALENDAR
PRODID: -//Microsoft Corporation//Outlook 12.0 MIMEDIR//EN
VERSION:2.0
METHOD:PUBLISH
X-MS-OLK-FORCEINSPECTOROPEN:TRUE
BEGIN:VEVENT
CLASS:PUBLIC
CREATED:2026-04-23T05:23:02
DESCRIPTION:The Annual Region 11 Bilingual and ESL Summer Extravaganza aims to provide a dynamic learning experience for educators, leaders, and paraprofessionals, focusing on strategies and resources to support emergent bilingual students. Through a series of 50-minute breakout sessions, participants will gain practical tools and knowledge to enhance instructional practices and support the academic success of emergent bilingual learners. Participants will have opportunities to collaborate with peers, explore resources at the vendor fair, and leave with actionable strategies to effectively address the needs of emergent bilingual students in their classrooms.
DTEND:20260609T150000
DTSTAMP:20260609T090000
DTSTART:20260609T090000
LAST-MODIFIED:2026-04-23T05:23:02
LOCATION:ESC Region 11
PRIORITY:5
SEQUENCE:0
SUMMARY;LANGUAGE=en-us:6th Annual Region 11 Bilingual and ESL Summer Extravaganza
TRANSP:OPAQUE
UID:CentralRegistration@esc11.net
SUMMARY:6th Annual Region 11 Bilingual and ESL Summer Extravaganza
X-MICROSOFT-CDO-BUSYSTATUS:BUSY
X-MICROSOFT-CDO-IMPORTANCE:1
BEGIN:VALARM
TRIGGER:-PT15M
ACTION:DISPLAY
DESCRIPTION:Reminder
END:VALARM
END:VEVENT
END:VCALENDAR
