BEGIN:VCALENDAR
PRODID: -//Microsoft Corporation//Outlook 12.0 MIMEDIR//EN
VERSION:2.0
METHOD:PUBLISH
X-MS-OLK-FORCEINSPECTOROPEN:TRUE
BEGIN:VEVENT
CLASS:PUBLIC
CREATED:2026-04-21T05:02:48
DESCRIPTION:This Site Supervisor course is designed to equip experienced educators with the skills and knowledge necessary to effectively mentor and support aspiring school leaders during their administrative internships or practical field experiences. The course typically covers strategies for providing constructive feedback, fostering professional growth, and guiding mentees through complex school leadership tasks such as managing staff, improving student outcomes, and navigating school policies. Additionally, the course emphasizes communication, problem-solving, and reflective practices, ensuring that mentors can support mentees in developing their leadership capacity and preparing them for successful careers in education administration.
DTEND:20260601T153000
DTSTAMP:20260112T070000
DTSTART:20260112T070000
LAST-MODIFIED:2026-04-21T05:02:48
LOCATION:Online
PRIORITY:5
SEQUENCE:0
SUMMARY;LANGUAGE=en-us:GoLead11 Principal Certification Program - 2026 Cohorts - Site Supervisor Training
TRANSP:OPAQUE
UID:CentralRegistration@esc11.net
SUMMARY:GoLead11 Principal Certification Program - 2026 Cohorts - Site Supervisor Training
X-MICROSOFT-CDO-BUSYSTATUS:BUSY
X-MICROSOFT-CDO-IMPORTANCE:1
BEGIN:VALARM
TRIGGER:-PT15M
ACTION:DISPLAY
DESCRIPTION:Reminder
END:VALARM
END:VEVENT
END:VCALENDAR
