BEGIN:VCALENDAR
PRODID: -//Microsoft Corporation//Outlook 12.0 MIMEDIR//EN
VERSION:2.0
METHOD:PUBLISH
X-MS-OLK-FORCEINSPECTOROPEN:TRUE
BEGIN:VEVENT
CLASS:PUBLIC
CREATED:2026-04-20T05:22:45
DESCRIPTION:Join us for NTTBF Ed Day 2026 at the Irving Convention Center! Again this year, amazing authors and guests will share the best new books and practical, engaging ways to spread book joy! 
This professional learning opportunity, sponsored by the Sam Houston State University College of Education’s Library Science program, will feature Ellen Oh, Rex Ogle, Jarrett Krosoczka and more than two dozen middle grade and young adult authors. 
Learn, connect, and get inspired! We ask you to please visit https://www.northtexasteenbookfestival.com/educator-day for an overview and expectations before registering. 
This session is facilitated by the North Texas Teen Book Festival team. ESC Regions 10 & 11 provide support and attendance confirmation.
Parking: $15.00 (cashless payment only)
Important Note: This professional development day is exclusively for educators and education professionals. Please do not bring children, as NTTBF hosts a free, family-friendly festival on Saturday, March 7, welcoming readers of all ages.



DTEND:20260306T160000
DTSTAMP:20260306T080000
DTSTART:20260306T080000
LAST-MODIFIED:2026-04-20T05:22:45
LOCATION:Irving Convention Center 500 W Las Colinas Blvd Irving, TX 75039
PRIORITY:5
SEQUENCE:0
SUMMARY;LANGUAGE=en-us:Educator Day at the North Texas Teen Book Festival
TRANSP:OPAQUE
UID:CentralRegistration@esc11.net
SUMMARY:Educator Day at the North Texas Teen Book Festival
X-MICROSOFT-CDO-BUSYSTATUS:BUSY
X-MICROSOFT-CDO-IMPORTANCE:1
BEGIN:VALARM
TRIGGER:-PT15M
ACTION:DISPLAY
DESCRIPTION:Reminder
END:VALARM
END:VEVENT
END:VCALENDAR
