BEGIN:VCALENDAR
PRODID: -//Microsoft Corporation//Outlook 12.0 MIMEDIR//EN
VERSION:2.0
METHOD:PUBLISH
X-MS-OLK-FORCEINSPECTOROPEN:TRUE
BEGIN:VEVENT
CLASS:PUBLIC
CREATED:2026-04-23T05:15:07
DESCRIPTION:Data Literacy 201 focuses on measuring the right things in the right ways. This session moves beyond interpreting data to designing meaningful, purpose-aligned metrics that support strong decisions. Participants will learn how to evaluate metric quality, distinguish leading and lagging indicators, triangulate evidence, and avoid common misinterpretation pitfalls. Using education-focused examples, we’ll practice selecting valid, reliable, and actionable measures that strengthen reporting and performance conversations. This workshop is hands-on and collaborative, designed for service center and district/campus staff who want to deepen their data practice and improve how they choose and communicate metrics. Participants will leave with practical tools to build trustworthy metrics and turn data into meaningful action.
DTEND:20260701T150000
DTSTAMP:20260701T090000
DTSTART:20260701T090000
LAST-MODIFIED:2026-04-23T05:15:07
LOCATION:ESC Region 11
PRIORITY:5
SEQUENCE:0
SUMMARY;LANGUAGE=en-us:Data Literacy 201: Selecting the Proper Metrics
TRANSP:OPAQUE
UID:CentralRegistration@esc11.net
SUMMARY:Data Literacy 201: Selecting the Proper Metrics
X-MICROSOFT-CDO-BUSYSTATUS:BUSY
X-MICROSOFT-CDO-IMPORTANCE:1
BEGIN:VALARM
TRIGGER:-PT15M
ACTION:DISPLAY
DESCRIPTION:Reminder
END:VALARM
END:VEVENT
END:VCALENDAR
