BEGIN:VCALENDAR
PRODID: -//Microsoft Corporation//Outlook 12.0 MIMEDIR//EN
VERSION:2.0
METHOD:PUBLISH
X-MS-OLK-FORCEINSPECTOROPEN:TRUE
BEGIN:VEVENT
CLASS:PUBLIC
CREATED:2026-04-21T03:36:41
DESCRIPTION:Data is everywhere - in our systems, reports, dashboards, and daily decisions. Data Literacy 101 is an interactive workshop designed to help participants build confidence in reading, interpreting, and communicating with data, no matter their technical background. In this session, participants will explore the fundamentals of data literacy through real-world examples from our organization’s context. We’ll demystify terms like data sources, metrics, trends, and visualizations, and practice turning raw numbers into meaningful insights. Participants will learn how to ask better data questions, identify common pitfalls in interpretation, and use data to tell clear, compelling stories that drive action. This session is hands-on and discussion based. No prior data experience is required - just curiosity and an open mind!
DTEND:20260617T150000
DTSTAMP:20260617T090000
DTSTART:20260617T090000
LAST-MODIFIED:2026-04-21T03:36:41
LOCATION:ESC Region 11 Annex - 1501 S. Cherry Lane, White Settlement, TX 76108
PRIORITY:5
SEQUENCE:0
SUMMARY;LANGUAGE=en-us:Data Literacy 101
TRANSP:OPAQUE
UID:CentralRegistration@esc11.net
SUMMARY:Data Literacy 101
X-MICROSOFT-CDO-BUSYSTATUS:BUSY
X-MICROSOFT-CDO-IMPORTANCE:1
BEGIN:VALARM
TRIGGER:-PT15M
ACTION:DISPLAY
DESCRIPTION:Reminder
END:VALARM
END:VEVENT
END:VCALENDAR
