BEGIN:VCALENDAR
PRODID: -//Microsoft Corporation//Outlook 12.0 MIMEDIR//EN
VERSION:2.0
METHOD:PUBLISH
X-MS-OLK-FORCEINSPECTOROPEN:TRUE
BEGIN:VEVENT
CLASS:PUBLIC
CREATED:2026-04-25T23:03:58
DESCRIPTION:Early childhood development is like a layered work of art—each child’s growth unfolds at its own pace, creating a complex and beautiful picture. In this session, we’ll explore how asynchronous development and perfectionism intersect, impacting learning and social-emotional growth. We’ll also discover how integrating art, music, and literature can add richness to your curriculum, spark creativity, and offer differentiated pathways for PreK–2 students to thrive. Leave with strategies to support the whole child as they create their own masterpieces of understanding in this six-hour GT Update. This session is aligned with the Instructional Strategies component of the TEA-required self-assessment.
DTEND:20260506T153000
DTSTAMP:20260506T083000
DTSTART:20260506T083000
LAST-MODIFIED:2026-04-25T23:03:58
LOCATION:ESC Region 11
PRIORITY:5
SEQUENCE:0
SUMMARY;LANGUAGE=en-us:Guiding Young Learners with Grace and Creativity (GT Update)
TRANSP:OPAQUE
UID:CentralRegistration@esc11.net
SUMMARY:Guiding Young Learners with Grace and Creativity (GT Update)
X-MICROSOFT-CDO-BUSYSTATUS:BUSY
X-MICROSOFT-CDO-IMPORTANCE:1
BEGIN:VALARM
TRIGGER:-PT15M
ACTION:DISPLAY
DESCRIPTION:Reminder
END:VALARM
END:VEVENT
END:VCALENDAR
