BEGIN:VCALENDAR
PRODID: -//Microsoft Corporation//Outlook 12.0 MIMEDIR//EN
VERSION:2.0
METHOD:PUBLISH
X-MS-OLK-FORCEINSPECTOROPEN:TRUE
BEGIN:VEVENT
CLASS:PUBLIC
CREATED:2026-04-21T03:35:13
DESCRIPTION:Youth Mental Health First Aid is designed to teach caring citizens how to help an adolescent (age 12-18) who is experiencing a mental health or addiction challenge or is in crisis. The course introduces common mental health challenges for youth, reviews typical adolescent development, and teaches a 5-step action plan for how to help young people in both crisis and non-crisis situations. Participants will complete 2 hours of self-paced work in advance of the YMHFA class. The individual work will be followed up by a group class that will be held online. (pre-work and post-work required) Certification awarded by the National Council of Mental Health upon completion.
DTEND:20260506T150000
DTSTAMP:20260506T090000
DTSTART:20260506T090000
LAST-MODIFIED:2026-04-21T03:35:13
LOCATION:Virtual
PRIORITY:5
SEQUENCE:0
SUMMARY;LANGUAGE=en-us:Youth Mental Health First Aid Virtual
TRANSP:OPAQUE
UID:CentralRegistration@esc11.net
SUMMARY:Youth Mental Health First Aid Virtual
X-MICROSOFT-CDO-BUSYSTATUS:BUSY
X-MICROSOFT-CDO-IMPORTANCE:1
BEGIN:VALARM
TRIGGER:-PT15M
ACTION:DISPLAY
DESCRIPTION:Reminder
END:VALARM
END:VEVENT
END:VCALENDAR
