BEGIN:VCALENDAR
PRODID: -//Microsoft Corporation//Outlook 12.0 MIMEDIR//EN
VERSION:2.0
METHOD:PUBLISH
X-MS-OLK-FORCEINSPECTOROPEN:TRUE
BEGIN:VEVENT
CLASS:PUBLIC
CREATED:2026-04-21T07:56:30
DESCRIPTION:This professional learning session provides educators with an overview of Explicit Instruction, a research-based approach that supports student achievement through clear, direct, and systematic teaching strategies. Participants will learn how to design lessons that incorporate modeling, guided practice, and independent application to effectively meet the needs of all learners, including those requiring specialized supports.

DTEND:20260709T160000
DTSTAMP:20260709T083000
DTSTART:20260709T083000
LAST-MODIFIED:2026-04-21T07:56:30
LOCATION:ESC Region 11
PRIORITY:5
SEQUENCE:0
SUMMARY;LANGUAGE=en-us:Explicit Instruction: Supporting All Learners Through Clear, Purposeful Teaching
TRANSP:OPAQUE
UID:CentralRegistration@esc11.net
SUMMARY:Explicit Instruction: Supporting All Learners Through Clear, Purposeful Teaching
X-MICROSOFT-CDO-BUSYSTATUS:BUSY
X-MICROSOFT-CDO-IMPORTANCE:1
BEGIN:VALARM
TRIGGER:-PT15M
ACTION:DISPLAY
DESCRIPTION:Reminder
END:VALARM
END:VEVENT
END:VCALENDAR
