BEGIN:VCALENDAR
PRODID: -//Microsoft Corporation//Outlook 12.0 MIMEDIR//EN
VERSION:2.0
METHOD:PUBLISH
X-MS-OLK-FORCEINSPECTOROPEN:TRUE
BEGIN:VEVENT
CLASS:PUBLIC
CREATED:2026-04-24T22:18:21
DESCRIPTION:This specialized support cohort for new Teachers of Students with Visual Impairments (TVIs) and Certified Orientation and Mobility Specialists (COMS) is designed to strengthen foundational skills in assessing students with visual impairments, delivering effective instruction, and implementing individualized education programs (IEPs). Through ongoing mentorship, collaborative problem-solving, and targeted professional development, the cohort provides practical tools and resources to help new professionals navigate the unique responsibilities of their roles. Participants will gain a clear understanding of best practice strategies that ensure high-quality services for students with visual impairments. This session aligns with the following Special Education Self-Assessment Compliance/Strategy Items: 2, 4, 7, 8, 10, 12, 14, 15, 18, 21, 22, and 23.
DTEND:20260220T153000
DTSTAMP:20260220T083000
DTSTART:20260220T083000
LAST-MODIFIED:2026-04-24T22:18:21
LOCATION:ESC Region 11
PRIORITY:5
SEQUENCE:0
SUMMARY;LANGUAGE=en-us:Cohort for New Teachers of Students with Visual Impairments (TVIs) and Certified Orientation and Mobility Specialists (COMS)
TRANSP:OPAQUE
UID:CentralRegistration@esc11.net
SUMMARY:Cohort for New Teachers of Students with Visual Impairments (TVIs) and Certified Orientation and Mobility Specialists (COMS)
X-MICROSOFT-CDO-BUSYSTATUS:BUSY
X-MICROSOFT-CDO-IMPORTANCE:1
BEGIN:VALARM
TRIGGER:-PT15M
ACTION:DISPLAY
DESCRIPTION:Reminder
END:VALARM
END:VEVENT
END:VCALENDAR
