BEGIN:VCALENDAR
PRODID: -//Microsoft Corporation//Outlook 12.0 MIMEDIR//EN
VERSION:2.0
METHOD:PUBLISH
X-MS-OLK-FORCEINSPECTOROPEN:TRUE
BEGIN:VEVENT
CLASS:PUBLIC
CREATED:2026-04-24T12:03:38
DESCRIPTION:Ensure a successful close to the school year by completing post-test data entry, beginning student growth calculations, and confirming all observation data is finalized. This session also provides a checklist for what’s required in the upcoming submission and helps districts assess readiness.
DTEND:20260519T113000
DTSTAMP:20260519T083000
DTSTART:20260519T083000
LAST-MODIFIED:2026-04-24T12:03:38
LOCATION:ESC Region 11
PRIORITY:5
SEQUENCE:0
SUMMARY;LANGUAGE=en-us:TIA: Wrapping Up the Year - Preparing for Student Growth Calculations
TRANSP:OPAQUE
UID:CentralRegistration@esc11.net
SUMMARY:TIA: Wrapping Up the Year - Preparing for Student Growth Calculations
X-MICROSOFT-CDO-BUSYSTATUS:BUSY
X-MICROSOFT-CDO-IMPORTANCE:1
BEGIN:VALARM
TRIGGER:-PT15M
ACTION:DISPLAY
DESCRIPTION:Reminder
END:VALARM
END:VEVENT
END:VCALENDAR
