BEGIN:VCALENDAR
PRODID: -//Microsoft Corporation//Outlook 12.0 MIMEDIR//EN
VERSION:2.0
METHOD:PUBLISH
X-MS-OLK-FORCEINSPECTOROPEN:TRUE
BEGIN:VEVENT
CLASS:PUBLIC
CREATED:2026-04-21T03:26:21
DESCRIPTION:Paraprofessionals are essential members of our instructional teams. Identified through a myriad of titles and job descriptions, paraprofessionals' roles and responsibilities have evolved along with the need for increased instructional supports for diverse learners. This session will provide guidance on relationship building, roles and responsibilities of each stakeholder, and strategies to support communication and documentation as outlined in our state guidance document titled "Working with Paraprofessionals."  

This session is aligned with the Instructional Strategies and Teachers and Staff components of the TEA-required self-assessment.
DTEND:20250224T120000
DTSTAMP:20250224T083000
DTSTART:20250224T083000
LAST-MODIFIED:2026-04-21T03:26:21
LOCATION:Cooke County SSA
PRIORITY:5
SEQUENCE:0
SUMMARY;LANGUAGE=en-us:Paraprofessionals - Roles and Responsibilities - Cooke Co SSA
TRANSP:OPAQUE
UID:CentralRegistration@esc11.net
SUMMARY:Paraprofessionals - Roles and Responsibilities - Cooke Co SSA
X-MICROSOFT-CDO-BUSYSTATUS:BUSY
X-MICROSOFT-CDO-IMPORTANCE:1
BEGIN:VALARM
TRIGGER:-PT15M
ACTION:DISPLAY
DESCRIPTION:Reminder
END:VALARM
END:VEVENT
END:VCALENDAR
