BEGIN:VCALENDAR
PRODID: -//Microsoft Corporation//Outlook 12.0 MIMEDIR//EN
VERSION:2.0
METHOD:PUBLISH
X-MS-OLK-FORCEINSPECTOROPEN:TRUE
BEGIN:VEVENT
CLASS:PUBLIC
CREATED:2026-04-25T08:22:59
DESCRIPTION:Join us for a dynamic collaborative session designed to support leaders in the Bluebonnet Learning community as we refine our planning and implementation strategies. This collaborative meeting will provide a space for leaders to share what is working, address challenges, and develop actionable plans for driving impactful change. Through interactive discussions, strategic exercises, and peer learning, participants will gain insights and tools to enhance leadership effectiveness and ensure the successful implementation of key initiatives.
DTEND:20250417T163000
DTSTAMP:20250417T123000
DTSTART:20250417T123000
LAST-MODIFIED:2026-04-25T08:22:59
LOCATION:ESC Region 11
PRIORITY:5
SEQUENCE:0
SUMMARY;LANGUAGE=en-us:Bluebonnet Learning: Leadership Collaborative
TRANSP:OPAQUE
UID:CentralRegistration@esc11.net
SUMMARY:Bluebonnet Learning: Leadership Collaborative
X-MICROSOFT-CDO-BUSYSTATUS:BUSY
X-MICROSOFT-CDO-IMPORTANCE:1
BEGIN:VALARM
TRIGGER:-PT15M
ACTION:DISPLAY
DESCRIPTION:Reminder
END:VALARM
END:VEVENT
END:VCALENDAR
