BEGIN:VCALENDAR
PRODID: -//Microsoft Corporation//Outlook 12.0 MIMEDIR//EN
VERSION:2.0
METHOD:PUBLISH
X-MS-OLK-FORCEINSPECTOROPEN:TRUE
BEGIN:VEVENT
CLASS:PUBLIC
CREATED:2026-04-21T03:35:08
DESCRIPTION:This session will provide an overview of evidence-based counseling and behavioral interventions designed to support students with ADHD, anxiety, depression, oppositional defiant disorder (ODD), and disruptive mood dysregulation disorder (DMDD). Participants will review research-backed strategies that align with the unique needs of each disorder, helping school personnel to better understand and apply targeted interventions. Emphasis will be placed on practical applications within school settings, promoting improved student outcomes and reducing disruptive behaviors.

This session aligns with the Intervention, Instructional Strategies, and Behavior components of the required self-assessment.
DTEND:20250709T153000
DTSTAMP:20250709T083000
DTSTART:20250709T083000
LAST-MODIFIED:2026-04-21T03:35:08
LOCATION:ESC Region 11
PRIORITY:5
SEQUENCE:0
SUMMARY;LANGUAGE=en-us:Alphabet Soup: Counseling and Behavioral Interventions for Students with ADHD, Anxiety, Depression, ODD, and DMDD
TRANSP:OPAQUE
UID:CentralRegistration@esc11.net
SUMMARY:Alphabet Soup: Counseling and Behavioral Interventions for Students with ADHD, Anxiety, Depression, ODD, and DMDD
X-MICROSOFT-CDO-BUSYSTATUS:BUSY
X-MICROSOFT-CDO-IMPORTANCE:1
BEGIN:VALARM
TRIGGER:-PT15M
ACTION:DISPLAY
DESCRIPTION:Reminder
END:VALARM
END:VEVENT
END:VCALENDAR
