BEGIN:VCALENDAR
PRODID: -//Microsoft Corporation//Outlook 12.0 MIMEDIR//EN
VERSION:2.0
METHOD:PUBLISH
X-MS-OLK-FORCEINSPECTOROPEN:TRUE
BEGIN:VEVENT
CLASS:PUBLIC
CREATED:2026-04-21T04:48:15
DESCRIPTION:This online, self-paced training course provides in-depth guidance on implementing a Verbal Behavior Milestone Assessment and Placement Program (VB-MAPP). Participants will learn how to assess language skills, identify developmental milestones, and create effective learning plans. The course focuses on practical strategies for accurate assessment and meaningful intervention. The web-based VB-MAPP training library is a convenient resource that provides self-paced access to a wealth of knowledge at your fingertips.

Conducting the VB-MAPP Assessment – 8 hours – 5 BACB CEUs
Teaching students after the VB-MAPP Assessment – 12 hours – 10 BACB CEUs



DTEND:20250114T160000
DTSTAMP:20250114T080000
DTSTART:20250114T080000
LAST-MODIFIED:2026-04-21T04:48:15
LOCATION:Online - link will be sent via email
PRIORITY:5
SEQUENCE:0
SUMMARY;LANGUAGE=en-us:VB-MAPP (Verbal Behavior Milestones Assessment and Placement Program) - Web-Based Training
TRANSP:OPAQUE
UID:CentralRegistration@esc11.net
SUMMARY:VB-MAPP (Verbal Behavior Milestones Assessment and Placement Program) - Web-Based Training
X-MICROSOFT-CDO-BUSYSTATUS:BUSY
X-MICROSOFT-CDO-IMPORTANCE:1
BEGIN:VALARM
TRIGGER:-PT15M
ACTION:DISPLAY
DESCRIPTION:Reminder
END:VALARM
END:VEVENT
END:VCALENDAR
