BEGIN:VCALENDAR
PRODID: -//Microsoft Corporation//Outlook 12.0 MIMEDIR//EN
VERSION:2.0
METHOD:PUBLISH
X-MS-OLK-FORCEINSPECTOROPEN:TRUE
BEGIN:VEVENT
CLASS:PUBLIC
CREATED:2026-04-24T14:41:17
DESCRIPTION:The Life Plan is a person-centered plan (PCP) designed to identify post-school environments and activities aligned with post-school transition goals. Training content includes the identification of existing targeted skills through student and parent input, identification of instructional priorities, the levels of support, digital literacy, self-determination skills, and potential barriers in the adult world, such as, transportation needs, health literacy, and behaviors that close doors. Participants will learn the PCP concept, the evidence-based model of the Life Plan, and tools and strategies to implement the Life Plan.

This session is aligned with the transition component of the TEA-required self-assessment and SPPI-13.
DTEND:20241105T120000
DTSTAMP:20241105T090000
DTSTART:20241105T090000
LAST-MODIFIED:2026-04-24T14:41:17
LOCATION:Virtual
PRIORITY:5
SEQUENCE:0
SUMMARY;LANGUAGE=en-us:Part I of the Life Plan: A Person-Centered Planning tool to Develop Transition Services, the Functional Vocational Evaluation, and the Coordinated Set of Activities
TRANSP:OPAQUE
UID:CentralRegistration@esc11.net
SUMMARY:Part I of the Life Plan: A Person-Centered Planning tool to Develop Transition Services, the Functional Vocational Evaluation, and the Coordinated Set of Activities
X-MICROSOFT-CDO-BUSYSTATUS:BUSY
X-MICROSOFT-CDO-IMPORTANCE:1
BEGIN:VALARM
TRIGGER:-PT15M
ACTION:DISPLAY
DESCRIPTION:Reminder
END:VALARM
END:VEVENT
END:VCALENDAR
