BEGIN:VCALENDAR
PRODID: -//Microsoft Corporation//Outlook 12.0 MIMEDIR//EN
VERSION:2.0
METHOD:PUBLISH
X-MS-OLK-FORCEINSPECTOROPEN:TRUE
BEGIN:VEVENT
CLASS:PUBLIC
CREATED:2026-04-23T05:17:36
DESCRIPTION:Hidden Figures will assist the aspiring principal in understanding the responsibilities a campus leader is tasked with, including identifying and registering students in the school. During this course, participants will learn how important each role is in assisting with the Migrant Education Program and their district with identifying and recruiting migratory students, and why identification is beneficial for each LEA. This is a TEA-required module for the Principal as Instructional Leader certification.
DTEND:20260831T160000
DTSTAMP:20240902T080000
DTSTART:20240902T080000
LAST-MODIFIED:2026-04-23T05:17:36
LOCATION:Online
PRIORITY:5
SEQUENCE:0
SUMMARY;LANGUAGE=en-us:GoLead11 Principal Hidden Figures: Understanding the Process for Identifying Migrant Students - Online Course
TRANSP:OPAQUE
UID:CentralRegistration@esc11.net
SUMMARY:GoLead11 Principal Hidden Figures: Understanding the Process for Identifying Migrant Students - Online Course
X-MICROSOFT-CDO-BUSYSTATUS:BUSY
X-MICROSOFT-CDO-IMPORTANCE:1
BEGIN:VALARM
TRIGGER:-PT15M
ACTION:DISPLAY
DESCRIPTION:Reminder
END:VALARM
END:VEVENT
END:VCALENDAR
