BEGIN:VCALENDAR
PRODID: -//Microsoft Corporation//Outlook 12.0 MIMEDIR//EN
VERSION:2.0
METHOD:PUBLISH
X-MS-OLK-FORCEINSPECTOROPEN:TRUE
BEGIN:VEVENT
CLASS:PUBLIC
CREATED:2026-04-20T14:51:30
DESCRIPTION:The TSPRA SPRINT Regional Meeting will provide additional opportunities for members for professional development and networking throughout the course of the school year with other education communications and foundation professionals from the area. SPRINT is the TSPRA chapter for Greater North Central Texas, serving members in ESC Regions 9, 10 and 11.
Members are invited to a large-group seminar that includes a “big idea” focus in a central location. 

DTEND:20241205T140000
DTSTAMP:20241205T100000
DTSTART:20241205T100000
LAST-MODIFIED:2026-04-20T14:51:30
LOCATION:ESC Region 11
PRIORITY:5
SEQUENCE:0
SUMMARY;LANGUAGE=en-us:TSPRA SPRINT Meeting
TRANSP:OPAQUE
UID:CentralRegistration@esc11.net
SUMMARY:TSPRA SPRINT Meeting
X-MICROSOFT-CDO-BUSYSTATUS:BUSY
X-MICROSOFT-CDO-IMPORTANCE:1
BEGIN:VALARM
TRIGGER:-PT15M
ACTION:DISPLAY
DESCRIPTION:Reminder
END:VALARM
END:VEVENT
END:VCALENDAR
