BEGIN:VCALENDAR
PRODID: -//Microsoft Corporation//Outlook 12.0 MIMEDIR//EN
VERSION:2.0
METHOD:PUBLISH
X-MS-OLK-FORCEINSPECTOROPEN:TRUE
BEGIN:VEVENT
CLASS:PUBLIC
CREATED:2026-04-23T13:56:33
DESCRIPTION:Unlock the full potential of your Professional Learning Communities (PLCs) by mastering the art of data analysis with DMAC (Data Management for Assessment and Curriculum).

The same session is being offered in the morning and then repeated in the afternoon. It will also be offered at different locations throughout Region 11.
DTEND:20241004T153000
DTSTAMP:20241004T123000
DTSTART:20241004T123000
LAST-MODIFIED:2026-04-23T13:56:33
LOCATION:ESC Region 11
PRIORITY:5
SEQUENCE:0
SUMMARY;LANGUAGE=en-us:Unleashing the Power of Data: Using DMAC Reports to Enhance PLC Conversations
TRANSP:OPAQUE
UID:CentralRegistration@esc11.net
SUMMARY:Unleashing the Power of Data: Using DMAC Reports to Enhance PLC Conversations
X-MICROSOFT-CDO-BUSYSTATUS:BUSY
X-MICROSOFT-CDO-IMPORTANCE:1
BEGIN:VALARM
TRIGGER:-PT15M
ACTION:DISPLAY
DESCRIPTION:Reminder
END:VALARM
END:VEVENT
END:VCALENDAR
