BEGIN:VCALENDAR
PRODID: -//Microsoft Corporation//Outlook 12.0 MIMEDIR//EN
VERSION:2.0
METHOD:PUBLISH
X-MS-OLK-FORCEINSPECTOROPEN:TRUE
BEGIN:VEVENT
CLASS:PUBLIC
CREATED:2026-04-23T20:19:52
DESCRIPTION:Behavioral Skills Training (BST). BST is an evidence-based strategy that can be applied to teach new skills through a combination of instruction, modeling, rehearsal, and feedback. Behavioral Skills Training (BST) is a systematic and evidence-based instructional approach designed to teach individuals specific skills or modify existing behaviors. This training method is widely employed across various fields, including education, healthcare, workplace settings, and social services. The primary goal of BST is to enhance the acquisition, retention, and application of targeted skills through a structured and sequential process. This session is aligned with the Instructional Strategies and Behavior component(s) of the TEA-required self-assessment.



DTEND:20250114T153000
DTSTAMP:20250114T083000
DTSTART:20250114T083000
LAST-MODIFIED:2026-04-23T20:19:52
LOCATION:ESC Region 11
PRIORITY:5
SEQUENCE:0
SUMMARY;LANGUAGE=en-us:Unlocking Potential: Behavior Skills Training
TRANSP:OPAQUE
UID:CentralRegistration@esc11.net
SUMMARY:Unlocking Potential: Behavior Skills Training
X-MICROSOFT-CDO-BUSYSTATUS:BUSY
X-MICROSOFT-CDO-IMPORTANCE:1
BEGIN:VALARM
TRIGGER:-PT15M
ACTION:DISPLAY
DESCRIPTION:Reminder
END:VALARM
END:VEVENT
END:VCALENDAR
