BEGIN:VCALENDAR
PRODID: -//Microsoft Corporation//Outlook 12.0 MIMEDIR//EN
VERSION:2.0
METHOD:PUBLISH
X-MS-OLK-FORCEINSPECTOROPEN:TRUE
BEGIN:VEVENT
CLASS:PUBLIC
CREATED:2026-04-21T03:33:36
DESCRIPTION:As a GoTeach11 Teacher Certification candidate you will be introduced to content that will build and deepen your knowledge of special populations. You will complete activities, checked for understanding, and be exposed to resources that will help you meet the instructional needs of special populations in education.


DTEND:20260831T160000
DTSTAMP:20240901T080000
DTSTART:20240901T080000
LAST-MODIFIED:2026-04-21T03:33:36
LOCATION:ESC Region 11
PRIORITY:5
SEQUENCE:0
SUMMARY;LANGUAGE=en-us:GoTeach11: Special Populations V2
TRANSP:OPAQUE
UID:CentralRegistration@esc11.net
SUMMARY:GoTeach11: Special Populations V2
X-MICROSOFT-CDO-BUSYSTATUS:BUSY
X-MICROSOFT-CDO-IMPORTANCE:1
BEGIN:VALARM
TRIGGER:-PT15M
ACTION:DISPLAY
DESCRIPTION:Reminder
END:VALARM
END:VEVENT
END:VCALENDAR
