BEGIN:VCALENDAR
PRODID: -//Microsoft Corporation//Outlook 12.0 MIMEDIR//EN
VERSION:2.0
METHOD:PUBLISH
X-MS-OLK-FORCEINSPECTOROPEN:TRUE
BEGIN:VEVENT
CLASS:PUBLIC
CREATED:2026-04-21T03:20:37
DESCRIPTION:Field-Based Experiences is designed for teaching candidates who are enrolled in ESC Region 11's alternative teacher certification program, GoTeach11. Registering for this session will provide you with access to the Field-Based Experiences Canvas course, which provides guidance on completing the 50 hours of field-based experience in accordance with State Board of Education Certification rules.
DTEND:20260731T160000
DTSTAMP:20240701T080000
DTSTART:20240701T080000
LAST-MODIFIED:2026-04-21T03:20:37
LOCATION:Online
PRIORITY:5
SEQUENCE:0
SUMMARY;LANGUAGE=en-us:GoTeach11: Field-Based Experiences
TRANSP:OPAQUE
UID:CentralRegistration@esc11.net
SUMMARY:GoTeach11: Field-Based Experiences
X-MICROSOFT-CDO-BUSYSTATUS:BUSY
X-MICROSOFT-CDO-IMPORTANCE:1
BEGIN:VALARM
TRIGGER:-PT15M
ACTION:DISPLAY
DESCRIPTION:Reminder
END:VALARM
END:VEVENT
END:VCALENDAR
