BEGIN:VCALENDAR
PRODID: -//Microsoft Corporation//Outlook 12.0 MIMEDIR//EN
VERSION:2.0
METHOD:PUBLISH
X-MS-OLK-FORCEINSPECTOROPEN:TRUE
BEGIN:VEVENT
CLASS:PUBLIC
CREATED:2026-04-24T13:10:57
DESCRIPTION:Join us for an engaging professional learning opportunity focused on Tier One Instruction, a cornerstone of effective teaching practices. In this session, educators will delve into strategies and techniques designed to optimize student learning experiences in the general education classroom.
By the end of this session, participants will leave equipped with a toolkit of research-based strategies and practical approaches to enhance Tier One Instruction within their classrooms. Whether you're a seasoned educator looking to refine your practice or a novice teacher seeking to build a strong instructional foundation, this professional development opportunity promises to empower you to maximize student success through Tier One Instruction. Join us in crafting instructional excellence in classrooms where all students thrive!
DTEND:20240710T113000
DTSTAMP:20240710T083000
DTSTART:20240710T083000
LAST-MODIFIED:2026-04-24T13:10:57
LOCATION:ESC Region 11
PRIORITY:5
SEQUENCE:0
SUMMARY;LANGUAGE=en-us:Crafting Excellence: The Art of Effective Tier One Instruction
TRANSP:OPAQUE
UID:CentralRegistration@esc11.net
SUMMARY:Crafting Excellence: The Art of Effective Tier One Instruction
X-MICROSOFT-CDO-BUSYSTATUS:BUSY
X-MICROSOFT-CDO-IMPORTANCE:1
BEGIN:VALARM
TRIGGER:-PT15M
ACTION:DISPLAY
DESCRIPTION:Reminder
END:VALARM
END:VEVENT
END:VCALENDAR
