BEGIN:VCALENDAR
PRODID: -//Microsoft Corporation//Outlook 12.0 MIMEDIR//EN
VERSION:2.0
METHOD:PUBLISH
X-MS-OLK-FORCEINSPECTOROPEN:TRUE
BEGIN:VEVENT
CLASS:PUBLIC
CREATED:2026-04-21T11:23:52
DESCRIPTION:The Multi-Tiered System of Support (MTSS) framework can be considered the umbrella for other support systems, such as data-based individualization (DBI), Universal Design for Learning (UDL), response to intervention (RtI), and positive behavior intervention and support (PBIS). An effective MTSS framework considers the variability of learners, supports in place, and equal access to the general curriculum. Through MTSS, schools identify students needing additional support and provide them with evidence-based interventions to reduce academic and behavioral gaps.

This series will lead participants through selected TIER Network pathways for MTSS. Sessions include MTSS Overview, MTSS Roles & Responsibilities, Examples of MTSS Implementation, Crating an Instructional Program, Crating the Assessment Plan, and Your MTSS Plan. This series will guide campus-based MTSS leaders through conceptualizing and implementing MTSS. 

These sessions align with the FAPE and Intervention component(s) of the TEA-required self-assessment.

Sessions will be delivered via ZOOM with follow-up through discussion and/or collaboration opportunities.

DTEND:20240429T120000
DTSTAMP:20240429T080000
DTSTART:20240429T080000
LAST-MODIFIED:2026-04-21T11:23:52
LOCATION:ESC Region 11
PRIORITY:5
SEQUENCE:0
SUMMARY;LANGUAGE=en-us:Multi Tiered System of Support- VIRTUAL Training  & Implementation Series 2023-2024
TRANSP:OPAQUE
UID:CentralRegistration@esc11.net
SUMMARY:Multi Tiered System of Support- VIRTUAL Training  & Implementation Series 2023-2024
X-MICROSOFT-CDO-BUSYSTATUS:BUSY
X-MICROSOFT-CDO-IMPORTANCE:1
BEGIN:VALARM
TRIGGER:-PT15M
ACTION:DISPLAY
DESCRIPTION:Reminder
END:VALARM
END:VEVENT
END:VCALENDAR
