BEGIN:VCALENDAR
PRODID: -//Microsoft Corporation//Outlook 12.0 MIMEDIR//EN
VERSION:2.0
METHOD:PUBLISH
X-MS-OLK-FORCEINSPECTOROPEN:TRUE
BEGIN:VEVENT
CLASS:PUBLIC
CREATED:2026-04-19T13:58:17
DESCRIPTION:This session is designed to empower educators in the English Language Arts and Reading (ELAR) domain of TEKS Resource System. Participants will be guided through the process of internalizing the TEKS Resource System units and the accompanying Instructional Focus Document and resources. Embrace a transformative shift from traditional planning to internalization as we explore practical tools and strategies to enhance your instructional planning and delivery.

By the end of this session, participants will leave with the knowledge and tools necessary to confidently internalize the TEKS Resource System units for ELAR, fostering a more streamlined and effective approach to lesson planning and delivery. 

DTEND:20240715T153000
DTSTAMP:20240715T083000
DTSTART:20240715T083000
LAST-MODIFIED:2026-04-19T13:58:17
LOCATION:ESC Region 11
PRIORITY:5
SEQUENCE:0
SUMMARY;LANGUAGE=en-us:TEKS Resource System: ELAR Internalization Tools
TRANSP:OPAQUE
UID:CentralRegistration@esc11.net
SUMMARY:TEKS Resource System: ELAR Internalization Tools
X-MICROSOFT-CDO-BUSYSTATUS:BUSY
X-MICROSOFT-CDO-IMPORTANCE:1
BEGIN:VALARM
TRIGGER:-PT15M
ACTION:DISPLAY
DESCRIPTION:Reminder
END:VALARM
END:VEVENT
END:VCALENDAR
