BEGIN:VCALENDAR
PRODID: -//Microsoft Corporation//Outlook 12.0 MIMEDIR//EN
VERSION:2.0
METHOD:PUBLISH
X-MS-OLK-FORCEINSPECTOROPEN:TRUE
BEGIN:VEVENT
CLASS:PUBLIC
CREATED:2026-04-21T00:58:29
DESCRIPTION:In the "Engaging the Experts" professional learning series, participants learn from some of the leading minds in the field of gifted education and talent development. In this course, participants will hear from Professor Scott Peters about the areas he would like to see changed in gifted education. Participants will also read an article by Professor Peters and reflect on what his views might mean for their classroom practice.
DTEND:20240809T160000
DTSTAMP:20240506T080000
DTSTART:20240506T080000
LAST-MODIFIED:2026-04-21T00:58:29
LOCATION:online
PRIORITY:5
SEQUENCE:0
SUMMARY;LANGUAGE=en-us:Online GT Update - Engaging the Experts: Professor Scott Peters (3 Hours)
TRANSP:OPAQUE
UID:CentralRegistration@esc11.net
SUMMARY:Online GT Update - Engaging the Experts: Professor Scott Peters (3 Hours)
X-MICROSOFT-CDO-BUSYSTATUS:BUSY
X-MICROSOFT-CDO-IMPORTANCE:1
BEGIN:VALARM
TRIGGER:-PT15M
ACTION:DISPLAY
DESCRIPTION:Reminder
END:VALARM
END:VEVENT
END:VCALENDAR
