BEGIN:VCALENDAR
PRODID: -//Microsoft Corporation//Outlook 12.0 MIMEDIR//EN
VERSION:2.0
METHOD:PUBLISH
X-MS-OLK-FORCEINSPECTOROPEN:TRUE
BEGIN:VEVENT
CLASS:PUBLIC
CREATED:2026-04-21T03:34:10
DESCRIPTION:TEA requires the GoTeach11 and GoLead11 Alternative Certification Programs to hold an annual advisory meeting. The Certification Programs of ESC Region 11 recruit public and private school stakeholders to provide input and suggestions to improve the ESC Region 11 alternative certification programs.

DTEND:20240222T140000
DTSTAMP:20240222T100000
DTSTART:20240222T100000
LAST-MODIFIED:2026-04-21T03:34:10
LOCATION:ESC Region 11
PRIORITY:5
SEQUENCE:0
SUMMARY;LANGUAGE=en-us:ESC Region 11 Certification Programs Annual Advisory Meeting
TRANSP:OPAQUE
UID:CentralRegistration@esc11.net
SUMMARY:ESC Region 11 Certification Programs Annual Advisory Meeting
X-MICROSOFT-CDO-BUSYSTATUS:BUSY
X-MICROSOFT-CDO-IMPORTANCE:1
BEGIN:VALARM
TRIGGER:-PT15M
ACTION:DISPLAY
DESCRIPTION:Reminder
END:VALARM
END:VEVENT
END:VCALENDAR
