BEGIN:VCALENDAR
PRODID: -//Microsoft Corporation//Outlook 12.0 MIMEDIR//EN
VERSION:2.0
METHOD:PUBLISH
X-MS-OLK-FORCEINSPECTOROPEN:TRUE
BEGIN:VEVENT
CLASS:PUBLIC
CREATED:2026-04-19T14:15:24
DESCRIPTION:Ready Bodies, Learning Minds is a two-day program emphasizing the powerful and essential connection between motor and sensory development, and the ability to perform the many tasks necessary for independence, behavioral control, and academic achievement.

This session is for teachers of students with visual impairments, certified orientation and mobility specialists, and staff that work with students with visual impairments. 
 

DTEND:20240530T160000
DTSTAMP:20240530T080000
DTSTART:20240530T080000
LAST-MODIFIED:2026-04-19T14:15:24
LOCATION:ESC Region 11
PRIORITY:5
SEQUENCE:0
SUMMARY;LANGUAGE=en-us:Ready Bodies, Learning Minds: Serving Students with Visual Impairments
TRANSP:OPAQUE
UID:CentralRegistration@esc11.net
SUMMARY:Ready Bodies, Learning Minds: Serving Students with Visual Impairments
X-MICROSOFT-CDO-BUSYSTATUS:BUSY
X-MICROSOFT-CDO-IMPORTANCE:1
BEGIN:VALARM
TRIGGER:-PT15M
ACTION:DISPLAY
DESCRIPTION:Reminder
END:VALARM
END:VEVENT
END:VCALENDAR
