BEGIN:VCALENDAR
PRODID: -//Microsoft Corporation//Outlook 12.0 MIMEDIR//EN
VERSION:2.0
METHOD:PUBLISH
X-MS-OLK-FORCEINSPECTOROPEN:TRUE
BEGIN:VEVENT
CLASS:PUBLIC
CREATED:2026-04-22T02:00:26
DESCRIPTION:Many Supreme Court cases have shaped our history and established legal precedent. This seminar will focus on the Constitution and Federalism, the Constitution and the Commerce Clause, and will conclude with a look at significant Civil Rights cases and their opinions. This program will be conducted as a conversation among peers, using primary documents as the only readings, and the Discussion Leader will be facilitating, not lecturing. Registrants are highly encouraged to read the documents shared prior to the session and come with questions. Lunch will be provided.
DTEND:20240226T153000
DTSTAMP:20240226T083000
DTSTART:20240226T083000
LAST-MODIFIED:2026-04-22T02:00:26
LOCATION:ESC Region 11
PRIORITY:5
SEQUENCE:0
SUMMARY;LANGUAGE=en-us:Teaching American History: Supreme Court Cases That Changed America
TRANSP:OPAQUE
UID:CentralRegistration@esc11.net
SUMMARY:Teaching American History: Supreme Court Cases That Changed America
X-MICROSOFT-CDO-BUSYSTATUS:BUSY
X-MICROSOFT-CDO-IMPORTANCE:1
BEGIN:VALARM
TRIGGER:-PT15M
ACTION:DISPLAY
DESCRIPTION:Reminder
END:VALARM
END:VEVENT
END:VCALENDAR
