BEGIN:VCALENDAR
PRODID: -//Microsoft Corporation//Outlook 12.0 MIMEDIR//EN
VERSION:2.0
METHOD:PUBLISH
X-MS-OLK-FORCEINSPECTOROPEN:TRUE
BEGIN:VEVENT
CLASS:PUBLIC
CREATED:2026-04-25T15:04:42
DESCRIPTION:This work session is held quarterly and is intended for those responsible for operating EB programs in the district/charter. The ESC Region 11 English Learner Support Team will provide a space for collaboration and support for Bilingual/ESL/Title III program leaders. These face-to-face sessions will follow the quarterly EB Program Leader Meetings. Each work session will focus on timely tasks that EB leaders are responsible for completing during that quarter of the year.
DTEND:20240215T153000
DTSTAMP:20240215T130000
DTSTART:20240215T130000
LAST-MODIFIED:2026-04-25T15:04:42
LOCATION:ESC Region 11
PRIORITY:5
SEQUENCE:0
SUMMARY;LANGUAGE=en-us:EB Timely Topics Work Session Series: MOY LPAC, Progress Monitoring, TELPAS
TRANSP:OPAQUE
UID:CentralRegistration@esc11.net
SUMMARY:EB Timely Topics Work Session Series: MOY LPAC, Progress Monitoring, TELPAS
X-MICROSOFT-CDO-BUSYSTATUS:BUSY
X-MICROSOFT-CDO-IMPORTANCE:1
BEGIN:VALARM
TRIGGER:-PT15M
ACTION:DISPLAY
DESCRIPTION:Reminder
END:VALARM
END:VEVENT
END:VCALENDAR
