BEGIN:VCALENDAR
PRODID: -//Microsoft Corporation//Outlook 12.0 MIMEDIR//EN
VERSION:2.0
METHOD:PUBLISH
X-MS-OLK-FORCEINSPECTOROPEN:TRUE
BEGIN:VEVENT
CLASS:PUBLIC
CREATED:2026-04-21T16:05:27
DESCRIPTION:In this session, participants will review foundational knowledge of organisms and the environment and apply the learning to a variety of science content strands within the 3-5 science TEKS. Topics covered in this session will include animal instincts and behaviors, plant dormancy, Texas fossils, plant life cycles, ecosystems, producers, consumers, and decomposers. Participants will apply new understandings through inquiry and design problems applied to topics presented in this session.
DTEND:20240214T153000
DTSTAMP:20240214T083000
DTSTART:20240214T083000
LAST-MODIFIED:2026-04-21T16:05:27
LOCATION:ESC Region 11
PRIORITY:5
SEQUENCE:0
SUMMARY;LANGUAGE=en-us:Organisms and Environments: Applying Science and Engineering Practices for Student Success with the New Science TEKS (3-5)
TRANSP:OPAQUE
UID:CentralRegistration@esc11.net
SUMMARY:Organisms and Environments: Applying Science and Engineering Practices for Student Success with the New Science TEKS (3-5)
X-MICROSOFT-CDO-BUSYSTATUS:BUSY
X-MICROSOFT-CDO-IMPORTANCE:1
BEGIN:VALARM
TRIGGER:-PT15M
ACTION:DISPLAY
DESCRIPTION:Reminder
END:VALARM
END:VEVENT
END:VCALENDAR
