BEGIN:VCALENDAR
PRODID: -//Microsoft Corporation//Outlook 12.0 MIMEDIR//EN
VERSION:2.0
METHOD:PUBLISH
X-MS-OLK-FORCEINSPECTOROPEN:TRUE
BEGIN:VEVENT
CLASS:PUBLIC
CREATED:2026-04-21T03:09:06
DESCRIPTION:Educator Professionalism is a Phase 1 course for teaching candidates enrolled in GoTeach11's Teacher Certification program.  This course helps ensure teachers adhere to the Educator's Code of Ethics and maintain appropriate relationships, boundaries, and communications with members of the educational community.
DTEND:20230904T160000
DTSTAMP:20230904T080000
DTSTART:20230904T080000
LAST-MODIFIED:2026-04-21T03:09:06
LOCATION:Online
PRIORITY:5
SEQUENCE:0
SUMMARY;LANGUAGE=en-us:GoTeach11: Educator Professionalism V2
TRANSP:OPAQUE
UID:CentralRegistration@esc11.net
SUMMARY:GoTeach11: Educator Professionalism V2
X-MICROSOFT-CDO-BUSYSTATUS:BUSY
X-MICROSOFT-CDO-IMPORTANCE:1
BEGIN:VALARM
TRIGGER:-PT15M
ACTION:DISPLAY
DESCRIPTION:Reminder
END:VALARM
END:VEVENT
END:VCALENDAR
